BEGIN:VCALENDAR
VERSION:2.0
PRODID:-//Topcon Healthcare - ECPv6.11.2//NONSGML v1.0//EN
CALSCALE:GREGORIAN
METHOD:PUBLISH
X-WR-CALNAME:Topcon Healthcare
X-ORIGINAL-URL:https://topconhealthcare.com
X-WR-CALDESC:Events for Topcon Healthcare
REFRESH-INTERVAL;VALUE=DURATION:PT1H
X-Robots-Tag:noindex
X-PUBLISHED-TTL:PT1H
BEGIN:VTIMEZONE
TZID:UTC
BEGIN:STANDARD
TZOFFSETFROM:+0000
TZOFFSETTO:+0000
TZNAME:UTC
DTSTART:20240101T000000
END:STANDARD
END:VTIMEZONE
BEGIN:VEVENT
DTSTART;TZID=UTC:20240918T080000
DTEND;TZID=UTC:20240921T170000
DTSTAMP:20260423T125552
CREATED:20240410T223123Z
LAST-MODIFIED:20240923T210828Z
UID:8751-1726646400-1726938000@topconhealthcare.com
SUMMARY:Vision Expo West 2024
DESCRIPTION:Join us from September 18 – 21 for Vision Expo West 2024 in Las Vegas\, NV.
URL:https://topconhealthcare.com/event/vision-expo-west-2024/
LOCATION:Venetian Expo & Convention Center\, 201 Sands Avenue\, Las Vegas\, Nevada\, 89169\, United States
CATEGORIES:Tradeshow
ATTACH;FMTTYPE=image/jpeg:https://topconhealthcare.com/wp-content/uploads/2021/06/vision-expo-edited.jpg
ORGANIZER;CN="Vision Expo":MAILTO:inquiry@visionexpo.com
END:VEVENT
END:VCALENDAR