BEGIN:VCALENDAR
VERSION:2.0
PRODID:-//Topcon Healthcare - ECPv6.11.2//NONSGML v1.0//EN
CALSCALE:GREGORIAN
METHOD:PUBLISH
X-WR-CALNAME:Topcon Healthcare
X-ORIGINAL-URL:https://topconhealthcare.com
X-WR-CALDESC:Events for Topcon Healthcare
REFRESH-INTERVAL;VALUE=DURATION:PT1H
X-Robots-Tag:noindex
X-PUBLISHED-TTL:PT1H
BEGIN:VTIMEZONE
TZID:UTC
BEGIN:STANDARD
TZOFFSETFROM:+0000
TZOFFSETTO:+0000
TZNAME:UTC
DTSTART:20260101T000000
END:STANDARD
END:VTIMEZONE
BEGIN:VEVENT
DTSTART;TZID=UTC:20260422T080000
DTEND;TZID=UTC:20260422T170000
DTSTAMP:20260421T123911
CREATED:20260420T192320Z
LAST-MODIFIED:20260420T192321Z
UID:12090-1776844800-1776877200@topconhealthcare.com
SUMMARY:New Hampshire Optometric Association Spring CE 2026
DESCRIPTION:Join us on April 22 for the New Hampshire Optometric Association Spring CE 2026 in Concord\, NH.
URL:https://topconhealthcare.com/event/new-hampshire-optometric-association-spring-ce-2026/
LOCATION:Grappone Conference Center\, 70 Constitution Ave\, Concord\, New Hampshire\, 03301\, United States
CATEGORIES:Tradeshow
ATTACH;FMTTYPE=image/png:https://topconhealthcare.com/wp-content/uploads/2024/08/NHOA_24.png
ORGANIZER;CN="New Hampshire Optometric Association":MAILTO:executivedirector@nheyedoctors.org
END:VEVENT
END:VCALENDAR