BEGIN:VCALENDAR
VERSION:2.0
PRODID:-//Topcon Healthcare - ECPv6.11.2//NONSGML v1.0//EN
CALSCALE:GREGORIAN
METHOD:PUBLISH
X-WR-CALNAME:Topcon Healthcare
X-ORIGINAL-URL:https://topconhealthcare.com
X-WR-CALDESC:Events for Topcon Healthcare
REFRESH-INTERVAL;VALUE=DURATION:PT1H
X-Robots-Tag:noindex
X-PUBLISHED-TTL:PT1H
BEGIN:VTIMEZONE
TZID:UTC
BEGIN:STANDARD
TZOFFSETFROM:+0000
TZOFFSETTO:+0000
TZNAME:UTC
DTSTART:20220101T000000
END:STANDARD
END:VTIMEZONE
BEGIN:VEVENT
DTSTART;TZID=UTC:20221204T080000
DTEND;TZID=UTC:20221207T170000
DTSTAMP:20260422T010820
CREATED:20221116T212920Z
LAST-MODIFIED:20240924T160510Z
UID:7026-1670140800-1670432400@topconhealthcare.com
SUMMARY:Institute for Healthcare Improvement 2022 Forum
DESCRIPTION:Join us December 4th at the IHI 2022 Forum in Orlando\, FL.
URL:https://topconhealthcare.com/event/institute-for-healthcare-improvement-2022-forum/
LOCATION:Orlando World Center Marriott\, 8701 World Center Dr.\, Orlando\, Florida\, 32821\, United States
ATTACH;FMTTYPE=image/png:https://topconhealthcare.com/wp-content/uploads/2022/11/IHI_2022.png
ORGANIZER;CN="Institute for Healthcare Improvement":MAILTO:ihiforum@ihi.org
END:VEVENT
END:VCALENDAR