BEGIN:VCALENDAR
VERSION:2.0
PRODID:-//Topcon Healthcare - ECPv6.11.2//NONSGML v1.0//EN
CALSCALE:GREGORIAN
METHOD:PUBLISH
X-WR-CALNAME:Topcon Healthcare
X-ORIGINAL-URL:https://topconhealthcare.com
X-WR-CALDESC:Events for Topcon Healthcare
REFRESH-INTERVAL;VALUE=DURATION:PT1H
X-Robots-Tag:noindex
X-PUBLISHED-TTL:PT1H
BEGIN:VTIMEZONE
TZID:UTC
BEGIN:STANDARD
TZOFFSETFROM:+0000
TZOFFSETTO:+0000
TZNAME:UTC
DTSTART:20250101T000000
END:STANDARD
END:VTIMEZONE
BEGIN:VEVENT
DTSTART;TZID=UTC:20250303T080000
DTEND;TZID=UTC:20250306T170000
DTSTAMP:20260421T114423
CREATED:20250312T232706Z
LAST-MODIFIED:20250312T232707Z
UID:10089-1740988800-1741280400@topconhealthcare.com
SUMMARY:All Things OCT 2025
DESCRIPTION:Join us from March 3 – 6 for All Things OCT 2025.
URL:https://topconhealthcare.com/event/all-things-oct-2025/
ATTACH;FMTTYPE=image/png:https://topconhealthcare.com/wp-content/uploads/2022/01/all-things-oct.png
END:VEVENT
END:VCALENDAR